BEGIN:VCALENDAR
VERSION:2.0
PRODID:-//https://www.stellarton.ca//NONSGML kigkonsult.se iCalcreator 2.29
 .29//
CALSCALE:GREGORIAN
METHOD:PUBLISH
UID:1071ec7b-0c1a-4c58-97f9-f174edab1354
X-WR-CALNAME:JCal Pro Calendar
X-WR-CALDESC:Your online events calendar
X-WR-TIMEZONE:America/Halifax
BEGIN:VTIMEZONE
TZID:America/Halifax
BEGIN:STANDARD
TZNAME:AST
DTSTART:20251102T020000
TZOFFSETFROM:-0300
TZOFFSETTO:-0400
RDATE:20261101T020000
END:STANDARD
BEGIN:DAYLIGHT
TZNAME:ADT
DTSTART:20260308T020000
TZOFFSETFROM:-0400
TZOFFSETTO:-0300
RDATE:20270314T020000
END:DAYLIGHT
END:VTIMEZONE
BEGIN:VEVENT
UID:20171205T070000AST-7087cjUrTo@http://localhost:8888/stellarton/
DTSTAMP:20260425T162625Z
CATEGORIES:Special Events
DESCRIPTION:<p>Tomorrow is the last day to take the Survey to help guide th
 e planning committees work?&nbsp\;</p>\n<p>Only 10 Questions</p>
DTSTART;TZID=America/Halifax:20171205T000000
DTEND;TZID=America/Halifax:20171205T235959
SUMMARY:Take the Survey
URL:https://www.stellarton.ca/38-special-events/5815-take-the-survey.html
X-ALT-DESC;FMTTYPE=TEXT/HTML:<p>Tomorrow is the last day to take the Survey
  to help guide the planning committees work?&nbsp\;</p>\n<p>Only 10 Questi
 ons</p>
END:VEVENT
BEGIN:VEVENT
UID:20230327T173000ADT-5535IvHtKn@https://stellarton.ca/
DTSTAMP:20260425T162625Z
CATEGORIES:Committee Meetings
DESCRIPTION:<p>For full meeting agenda:&nbsp\;<a href='council-ii-and-speci
 al-meetings/2023-committee-of-the-whole/619-03-27-2023-agenda/file.html'>M
 arch Agenda 2023</a></p>
DTSTART;TZID=America/Halifax:20230327T173000
DTEND;TZID=America/Halifax:20230327T183000
SUMMARY:Committee of the Whole
URL:https://www.stellarton.ca/37-monthly-meetings/6011-committee-of-the-who
 le.html
X-ALT-DESC;FMTTYPE=TEXT/HTML:<p>For full meeting agenda:&nbsp\;<a href='cou
 ncil-ii-and-special-meetings/2023-committee-of-the-whole/619-03-27-2023-ag
 enda/file.html'>March Agenda 2023</a></p>
END:VEVENT
BEGIN:VEVENT
UID:20230330T143000ADT-9792hjniLL@https://stellarton.ca/
DTSTAMP:20260425T162625Z
CATEGORIES:Committee Meetings
DESCRIPTION:<p>For full meeting agenda:&nbsp\;<a href='police-commission/20
 23-police-commission/620-03-30-2023-commission-agenda/file.html'>March Age
 nda 2023</a></p>
DTSTART;TZID=America/Halifax:20230330T143000
DTEND;TZID=America/Halifax:20230330T153000
SUMMARY:Police Commission
URL:https://www.stellarton.ca/37-monthly-meetings/6034-police-commission.ht
 ml
X-ALT-DESC;FMTTYPE=TEXT/HTML:<p>For full meeting agenda:&nbsp\;<a href='pol
 ice-commission/2023-police-commission/620-03-30-2023-commission-agenda/fil
 e.html'>March Agenda 2023</a></p>
END:VEVENT
END:VCALENDAR
