BEGIN:VCALENDAR
VERSION:2.0
PRODID:-//https://www.stellarton.ca//NONSGML kigkonsult.se iCalcreator 2.29
 .29//
CALSCALE:GREGORIAN
METHOD:PUBLISH
UID:81453e74-1578-455f-9ea3-b00e2554f9cb
X-WR-CALNAME:JCal Pro Calendar
X-WR-CALDESC:Your online events calendar
X-WR-TIMEZONE:America/Halifax
BEGIN:VTIMEZONE
TZID:America/Halifax
BEGIN:STANDARD
TZNAME:AST
DTSTART:20251102T020000
TZOFFSETFROM:-0300
TZOFFSETTO:-0400
RDATE:20261101T020000
END:STANDARD
BEGIN:DAYLIGHT
TZNAME:ADT
DTSTART:20260308T020000
TZOFFSETFROM:-0400
TZOFFSETTO:-0300
RDATE:20270314T020000
END:DAYLIGHT
END:VTIMEZONE
BEGIN:VEVENT
UID:20171205T070000AST-7087cjUrTo@http://localhost:8888/stellarton/
DTSTAMP:20260425T101842Z
CATEGORIES:Special Events
DESCRIPTION:<p>Tomorrow is the last day to take the Survey to help guide th
 e planning committees work?&nbsp\;</p>\n<p>Only 10 Questions</p>
DTSTART;TZID=America/Halifax:20171205T000000
DTEND;TZID=America/Halifax:20171205T235959
SUMMARY:Take the Survey
URL:https://www.stellarton.ca/38-special-events/5815-take-the-survey.html
X-ALT-DESC;FMTTYPE=TEXT/HTML:<p>Tomorrow is the last day to take the Survey
  to help guide the planning committees work?&nbsp\;</p>\n<p>Only 10 Questi
 ons</p>
END:VEVENT
BEGIN:VEVENT
UID:20191003T173000ADT-43965lgDmI@https://stellarton.ca/
DTSTAMP:20260425T101842Z
CATEGORIES:Special Events
DESCRIPTION:<p>&nbsp\;Come Join the Town of Stellarton Police Commission an
 d Town Council&nbsp\; in welcoming&nbsp\; Chief of Police Mark Hobeck&nbsp
 \; to the Town of Stellarton&nbsp\; Thursday\, October 3\, 2019&nbsp\;&nbs
 p\;Police Commission Meeting and Swearing In 4:30 PM&nbsp\; With public me
 et and greet reception to follow&nbsp\; (approximate time 5:30 to 7:30 PM)
 .</p>
DTSTART;TZID=America/Halifax:20191003T173000
DTEND;TZID=America/Halifax:20191003T193000
SUMMARY:Chief of Police Meet and Greet
URL:https://www.stellarton.ca/38-special-events/5872-chief-of-police-meet-a
 nd-greet.html
X-ALT-DESC;FMTTYPE=TEXT/HTML:<p>&nbsp\;Come Join the Town of Stellarton Pol
 ice Commission and Town Council&nbsp\; in welcoming&nbsp\; Chief of Police
  Mark Hobeck&nbsp\; to the Town of Stellarton&nbsp\; Thursday\, October 3\
 , 2019&nbsp\;&nbsp\;Police Commission Meeting and Swearing In 4:30 PM&nbsp
 \; With public meet and greet reception to follow&nbsp\; (approximate time
  5:30 to 7:30 PM).</p>
END:VEVENT
BEGIN:VEVENT
UID:20191005T130000ADT-3052vgKAxd@https://stellarton.ca/
DTSTAMP:20260425T101842Z
CATEGORIES:Special Events
DESCRIPTION:<p>Stellarton fire department is celebrating the 40th anniversa
 ry of their firehall on Saturday October 5th from 1-3pm. Everyone is welco
 me to come by and have some snacks and view our equipment.</p>
DTSTART;TZID=America/Halifax:20191005T130000
DTEND;TZID=America/Halifax:20191005T150000
SUMMARY:Stellarton Fire Hall Open House
URL:https://www.stellarton.ca/38-special-events/5873-stellarton-fire-hall-o
 pen-house.html
X-ALT-DESC;FMTTYPE=TEXT/HTML:<p>Stellarton fire department is celebrating t
 he 40th anniversary of their firehall on Saturday October 5th from 1-3pm. 
 Everyone is welcome to come by and have some snacks and view our equipment
 .</p>
END:VEVENT
END:VCALENDAR
