BEGIN:VCALENDAR
VERSION:2.0
PRODID:-//https://www.stellarton.ca//NONSGML kigkonsult.se iCalcreator 2.29
 .29//
CALSCALE:GREGORIAN
METHOD:PUBLISH
UID:ec7113c3-2f67-4a7d-9b09-839498dad2d6
X-WR-CALNAME:JCal Pro Calendar
X-WR-CALDESC:Your online events calendar
X-WR-TIMEZONE:America/Halifax
BEGIN:VTIMEZONE
TZID:America/Halifax
BEGIN:STANDARD
TZNAME:AST
DTSTART:20251102T020000
TZOFFSETFROM:-0300
TZOFFSETTO:-0400
RDATE:20261101T020000
END:STANDARD
BEGIN:DAYLIGHT
TZNAME:ADT
DTSTART:20260308T020000
TZOFFSETFROM:-0400
TZOFFSETTO:-0300
RDATE:20270314T020000
END:DAYLIGHT
END:VTIMEZONE
BEGIN:VEVENT
UID:20171205T070000AST-7087cjUrTo@http://localhost:8888/stellarton/
DTSTAMP:20260421T085755Z
CATEGORIES:Special Events
DESCRIPTION:<p>Tomorrow is the last day to take the Survey to help guide th
 e planning committees work?&nbsp\;</p>\n<p>Only 10 Questions</p>
DTSTART;TZID=America/Halifax:20171205T000000
DTEND;TZID=America/Halifax:20171205T235959
SUMMARY:Take the Survey
URL:https://www.stellarton.ca/38-special-events/5815-take-the-survey.html
X-ALT-DESC;FMTTYPE=TEXT/HTML:<p>Tomorrow is the last day to take the Survey
  to help guide the planning committees work?&nbsp\;</p>\n<p>Only 10 Questi
 ons</p>
END:VEVENT
BEGIN:VEVENT
UID:20190611T110000ADT-7409WVUtNC@https://stellarton.ca/
DTSTAMP:20260421T085755Z
CATEGORIES:Special Events
DESCRIPTION:<p>A small memorial service presentation at the monument follow
 ed by refreshents at the&nbsp\;Christ Church Hall in Stellarton.</p>
DTSTART;TZID=America/Halifax:20190611T110000
DTEND;TZID=America/Halifax:20190611T120000
SUMMARY:William Davis Miner's Memorial Day
URL:https://www.stellarton.ca/38-special-events/5862-william-davis-miner-s-
 memorial-day.html
X-ALT-DESC;FMTTYPE=TEXT/HTML:<p>A small memorial service presentation at th
 e monument followed by refreshents at the&nbsp\;Christ Church Hall in Stel
 larton.</p>
END:VEVENT
BEGIN:VEVENT
UID:20180613T180000ADT-4925vN0tO8@https://stellarton.mwvdev.info/
DTSTAMP:20260421T085755Z
CATEGORIES:Special Events
DESCRIPTION:<p>Stellarton Day Camp is a fun week long camp for children age
 d 5-12. Camps are set to themes and starts July 3rd and will run to&nbsp\;
 August 16th. It is $50 per child\, fmaily discounts available.</p>
DTSTART;TZID=America/Halifax:20190612T180000
DTEND;TZID=America/Halifax:20190612T200000
SUMMARY:Day Camp Registration
URL:https://www.stellarton.ca/38-special-events/5833-day-camp-registration.
 html
X-ALT-DESC;FMTTYPE=TEXT/HTML:<p>Stellarton Day Camp is a fun week long camp
  for children aged 5-12. Camps are set to themes and starts July 3rd and w
 ill run to&nbsp\;August 16th. It is $50 per child\, fmaily discounts avail
 able.</p>
END:VEVENT
BEGIN:VEVENT
UID:20180614T180000ADT-4212TU0Oog@https://stellarton.mwvdev.info/
DTSTAMP:20260421T085755Z
CATEGORIES:Special Events
DESCRIPTION:<p>Stellarton Day Camp is a fun week long camp for children age
 d 5-12. Camps are set to themes and starts July 3rd and will run to&nbsp\;
 August 16th. It is $50 per child\, fmaily discounts available.</p>
DTSTART;TZID=America/Halifax:20190613T180000
DTEND;TZID=America/Halifax:20190613T200000
SUMMARY:Day Camp Registration
URL:https://www.stellarton.ca/38-special-events/5835-day-camp-registration.
 html
X-ALT-DESC;FMTTYPE=TEXT/HTML:<p>Stellarton Day Camp is a fun week long camp
  for children aged 5-12. Camps are set to themes and starts July 3rd and w
 ill run to&nbsp\;August 16th. It is $50 per child\, fmaily discounts avail
 able.</p>
END:VEVENT
END:VCALENDAR
