BEGIN:VCALENDAR
VERSION:2.0
PRODID:-//https://www.stellarton.ca//NONSGML kigkonsult.se iCalcreator 2.29
 .29//
CALSCALE:GREGORIAN
METHOD:PUBLISH
UID:9ea8063d-bc43-4869-85bc-ce0cc2626585
X-WR-CALNAME:JCal Pro Calendar
X-WR-CALDESC:Your online events calendar
X-WR-TIMEZONE:America/Halifax
BEGIN:VTIMEZONE
TZID:America/Halifax
BEGIN:STANDARD
TZNAME:AST
DTSTART:20251102T020000
TZOFFSETFROM:-0300
TZOFFSETTO:-0400
RDATE:20261101T020000
END:STANDARD
BEGIN:DAYLIGHT
TZNAME:ADT
DTSTART:20260308T020000
TZOFFSETFROM:-0400
TZOFFSETTO:-0300
RDATE:20270314T020000
END:DAYLIGHT
END:VTIMEZONE
BEGIN:VEVENT
UID:20241118T180000AST-5007TrLLT4@https://stellarton.ca/
DTSTAMP:20260420T081946Z
CATEGORIES:Special Events
DESCRIPTION:<div>\n<div dir='auto'>Join us on Monday\, November 18\, at the
  Blue Lobster Public House!</div>\n</div>\n<div>\n<div dir='auto'>Council 
 will be hosting a meet and greet from 6-7pm. This is a chance for resident
 s to get to know the individuals who will be representing Stellarton for t
 he next four years. All are encouraged to attend.</div>\n</div>\n<div>\n<d
 iv dir='auto'>See you there!</div>\n</div>
DTSTART;TZID=America/Halifax:20241118T180000
DTEND;TZID=America/Halifax:20241118T190000
SUMMARY:Council Meet & Greet
URL:https://www.stellarton.ca/38-special-events/6065-council-meet-greet.htm
 l
X-ALT-DESC;FMTTYPE=TEXT/HTML:<div>\n<div dir='auto'>Join us on Monday\, Nov
 ember 18\, at the Blue Lobster Public House!</div>\n</div>\n<div>\n<div di
 r='auto'>Council will be hosting a meet and greet from 6-7pm. This is a ch
 ance for residents to get to know the individuals who will be representing
  Stellarton for the next four years. All are encouraged to attend.</div>\n
 </div>\n<div>\n<div dir='auto'>See you there!</div>\n</div>
END:VEVENT
BEGIN:VEVENT
UID:20171205T070000AST-7087cjUrTo@http://localhost:8888/stellarton/
DTSTAMP:20260420T081946Z
CATEGORIES:Special Events
DESCRIPTION:<p>Tomorrow is the last day to take the Survey to help guide th
 e planning committees work?&nbsp\;</p>\n<p>Only 10 Questions</p>
DTSTART;TZID=America/Halifax:20171205T000000
DTEND;TZID=America/Halifax:20171205T235959
SUMMARY:Take the Survey
URL:https://www.stellarton.ca/38-special-events/5815-take-the-survey.html
X-ALT-DESC;FMTTYPE=TEXT/HTML:<p>Tomorrow is the last day to take the Survey
  to help guide the planning committees work?&nbsp\;</p>\n<p>Only 10 Questi
 ons</p>
END:VEVENT
BEGIN:VEVENT
UID:20241112T173000AST-93885EDO4o@https://stellarton.ca/
DTSTAMP:20260420T081946Z
CATEGORIES:Council Meetings
DTSTART;TZID=America/Halifax:20241112T173000
DTEND;TZID=America/Halifax:20241112T183000
SUMMARY:Council Meeting
URL:https://www.stellarton.ca/36-council-meetings/6049-council-meeting.html
END:VEVENT
BEGIN:VEVENT
UID:20241125T173000AST-6080WPigem@https://stellarton.ca/
DTSTAMP:20260420T081946Z
CATEGORIES:Committee Meetings
DTSTART;TZID=America/Halifax:20241125T173000
DTEND;TZID=America/Halifax:20241125T183000
SUMMARY:Committee of the Whole
URL:https://www.stellarton.ca/37-monthly-meetings/6060-committee-of-the-who
 le.html
END:VEVENT
BEGIN:VEVENT
UID:20241129T180000AST-8554KkSs5d@https://stellarton.ca/
DTSTAMP:20260420T081946Z
CATEGORIES:Special Events
DTSTART;TZID=America/Halifax:20241129T180000
DTEND;TZID=America/Halifax:20241129T190000
SUMMARY:Annual Tree Lighting
URL:https://www.stellarton.ca/38-special-events/6064-annual-tree-lighting.h
 tml
END:VEVENT
END:VCALENDAR
