BEGIN:VCALENDAR
VERSION:2.0
PRODID:-//https://www.stellarton.ca//NONSGML kigkonsult.se iCalcreator 2.29
 .29//
CALSCALE:GREGORIAN
METHOD:PUBLISH
UID:f814fae1-b8e9-46ad-96f7-41237a56bcac
X-WR-CALNAME:JCal Pro Calendar
X-WR-CALDESC:Your online events calendar
X-WR-TIMEZONE:America/Halifax
BEGIN:VTIMEZONE
TZID:America/Halifax
BEGIN:STANDARD
TZNAME:AST
DTSTART:20251102T020000
TZOFFSETFROM:-0300
TZOFFSETTO:-0400
RDATE:20261101T020000
END:STANDARD
BEGIN:DAYLIGHT
TZNAME:ADT
DTSTART:20260308T020000
TZOFFSETFROM:-0400
TZOFFSETTO:-0300
RDATE:20270314T020000
END:DAYLIGHT
END:VTIMEZONE
BEGIN:VEVENT
UID:20171205T070000AST-7087cjUrTo@http://localhost:8888/stellarton/
DTSTAMP:20260425T103526Z
CATEGORIES:Special Events
DESCRIPTION:<p>Tomorrow is the last day to take the Survey to help guide th
 e planning committees work?&nbsp\;</p>\n<p>Only 10 Questions</p>
DTSTART;TZID=America/Halifax:20171205T000000
DTEND;TZID=America/Halifax:20171205T235959
SUMMARY:Take the Survey
URL:https://www.stellarton.ca/38-special-events/5815-take-the-survey.html
X-ALT-DESC;FMTTYPE=TEXT/HTML:<p>Tomorrow is the last day to take the Survey
  to help guide the planning committees work?&nbsp\;</p>\n<p>Only 10 Questi
 ons</p>
END:VEVENT
BEGIN:VEVENT
UID:20200713T173000ADT-0808TbkvRV@https://stellarton.ca/
DTSTAMP:20260425T103526Z
CATEGORIES:Council Meetings
DESCRIPTION:<p>Held virtually due to the COVID-19 pandemic.</p>
DTSTART;TZID=America/Halifax:20200713T173000
DTEND;TZID=America/Halifax:20200713T183000
SUMMARY:July Council
URL:https://www.stellarton.ca/36-council-meetings/5901-july-council.html
X-ALT-DESC;FMTTYPE=TEXT/HTML:<p>Held virtually due to the COVID-19 pandemic
 .</p>
END:VEVENT
BEGIN:VEVENT
UID:20200714T140000ADT-3110HMG4BF@https://stellarton.ca/
DTSTAMP:20260425T103526Z
CATEGORIES:Committee Meetings
DTSTART;TZID=America/Halifax:20200714T140000
DTEND;TZID=America/Halifax:20200714T150000
SUMMARY:Heritage Committee
URL:https://www.stellarton.ca/37-monthly-meetings/5902-heritage-committee.h
 tml
END:VEVENT
END:VCALENDAR
