BEGIN:VCALENDAR
VERSION:2.0
PRODID:-//https://www.stellarton.ca//NONSGML kigkonsult.se iCalcreator 2.29
 .29//
CALSCALE:GREGORIAN
METHOD:PUBLISH
UID:4e508687-edee-4ae1-889c-ce9d85abe6e4
X-WR-CALNAME:JCal Pro Calendar
X-WR-CALDESC:Your online events calendar
X-WR-TIMEZONE:America/Halifax
BEGIN:VTIMEZONE
TZID:America/Halifax
BEGIN:STANDARD
TZNAME:AST
DTSTART:20251102T020000
TZOFFSETFROM:-0300
TZOFFSETTO:-0400
RDATE:20261101T020000
END:STANDARD
BEGIN:DAYLIGHT
TZNAME:ADT
DTSTART:20260308T020000
TZOFFSETFROM:-0400
TZOFFSETTO:-0300
RDATE:20270314T020000
END:DAYLIGHT
END:VTIMEZONE
BEGIN:VEVENT
UID:20171205T070000AST-7087cjUrTo@http://localhost:8888/stellarton/
DTSTAMP:20260425T023715Z
CATEGORIES:Special Events
DESCRIPTION:<p>Tomorrow is the last day to take the Survey to help guide th
 e planning committees work?&nbsp\;</p>\n<p>Only 10 Questions</p>
DTSTART;TZID=America/Halifax:20171205T000000
DTEND;TZID=America/Halifax:20171205T235959
SUMMARY:Take the Survey
URL:https://www.stellarton.ca/38-special-events/5815-take-the-survey.html
X-ALT-DESC;FMTTYPE=TEXT/HTML:<p>Tomorrow is the last day to take the Survey
  to help guide the planning committees work?&nbsp\;</p>\n<p>Only 10 Questi
 ons</p>
END:VEVENT
BEGIN:VEVENT
UID:20180205T173000AST-1033gVCAVx@http://stellarton.mwvdev.info/
DTSTAMP:20260425T023715Z
CATEGORIES:Council Meetings
DTSTART;TZID=America/Halifax:20191209T173000
DTEND;TZID=America/Halifax:20191209T193000
RRULE:FREQ=MONTHLY;COUNT=4;INTERVAL=1;BYDAY=MO;BYSETPOS=2
SUMMARY:Council
URL:https://www.stellarton.ca/36-council-meetings/5817-council-i.html
END:VEVENT
BEGIN:VEVENT
UID:20180219T120000AST-6374TwHM1M@http://stellarton.mwvdev.info/
DTSTAMP:20260425T023715Z
CATEGORIES:Special Events
DESCRIPTION:<p>A free family event sponsored by the Town at the Sobeys Indo
 or Sports Complex. Bouncies Laser Tag and inflatables available for kids t
 o use!</p>
DTSTART;TZID=America/Halifax:20200217T113000
DTEND;TZID=America/Halifax:20200217T143000
SUMMARY:Heritage Day Family Winter Event
URL:https://www.stellarton.ca/38-special-events/5816-heritage-day-family-wi
 nter-event.html
X-ALT-DESC;FMTTYPE=TEXT/HTML:<p>A free family event sponsored by the Town a
 t the Sobeys Indoor Sports Complex. Bouncies Laser Tag and inflatables ava
 ilable for kids to use!</p>
END:VEVENT
BEGIN:VEVENT
UID:20180528T080000ADT-0567266mix@https://stellarton.mwvdev.info/
DTSTAMP:20260425T023715Z
CATEGORIES:Council Meetings
DTSTART;TZID=America/Halifax:20200127T173000
DTEND;TZID=America/Halifax:20200127T183000
RRULE:FREQ=MONTHLY;COUNT=4;INTERVAL=1;BYDAY=MO;BYSETPOS=4
SUMMARY:Committee of the Whole
URL:https://www.stellarton.ca/36-council-meetings/5831-committee-of-the-who
 le.html
END:VEVENT
END:VCALENDAR
