BEGIN:VCALENDAR
VERSION:2.0
PRODID:-//https://www.stellarton.ca//NONSGML kigkonsult.se iCalcreator 2.29
 .29//
CALSCALE:GREGORIAN
METHOD:PUBLISH
UID:6117d66b-8204-48e9-a22b-3e75ea08e6c1
X-WR-CALNAME:JCal Pro Calendar
X-WR-CALDESC:Your online events calendar
X-WR-TIMEZONE:America/Halifax
BEGIN:VTIMEZONE
TZID:America/Halifax
BEGIN:STANDARD
TZNAME:AST
DTSTART:20251102T020000
TZOFFSETFROM:-0300
TZOFFSETTO:-0400
RDATE:20261101T020000
END:STANDARD
BEGIN:DAYLIGHT
TZNAME:ADT
DTSTART:20260308T020000
TZOFFSETFROM:-0400
TZOFFSETTO:-0300
RDATE:20270314T020000
END:DAYLIGHT
END:VTIMEZONE
BEGIN:VEVENT
UID:20171116T070000P-2010Hi8oN1@http://localhost:8888/stellarton/
DTSTAMP:20260421T172630Z
CATEGORIES:Special Events
DESCRIPTION:<p>A small ceremony will be happening in Town Square on Decembe
 r 2nd at 6:30pm</p>\n<p class='event-date'><span class='month'>Nov </span>
 <span class='day'>17th</span></p>
DTSTART;TZID=America/Halifax:20171116T013000
DTEND;TZID=America/Halifax:20171116T033000
SUMMARY:Town Square Ceremony
URL:https://www.stellarton.ca/38-special-events/5811-town-square-ceremony.h
 tml
X-ALT-DESC;FMTTYPE=TEXT/HTML:<p>A small ceremony will be happening in Town 
 Square on December 2nd at 6:30pm</p>\n<p class='event-date'><span class='m
 onth'>Nov </span><span class='day'>17th</span></p>
END:VEVENT
BEGIN:VEVENT
UID:20171130T170000AST-1242vgG8LG@http://localhost:8888/stellarton/
DTSTAMP:20260421T172630Z
CATEGORIES:Special Events
DESCRIPTION:<p>Presentation with Gerald Gloade\, Mi'kmaq First Nation</p>
DTSTART;TZID=America/Halifax:20171130T070000
DTEND;TZID=America/Halifax:20171130T080000
SUMMARY:A Mi'kmaq History of the Martimes
URL:https://www.stellarton.ca/38-special-events/5812-a-mi-kmaq-history-of-t
 he-martimes.html
X-ALT-DESC;FMTTYPE=TEXT/HTML:<p>Presentation with Gerald Gloade\, Mi'kmaq F
 irst Nation</p>
END:VEVENT
END:VCALENDAR
