BEGIN:VCALENDAR
VERSION:2.0
PRODID:-//https://www.stellarton.ca//NONSGML kigkonsult.se iCalcreator 2.29
 .29//
CALSCALE:GREGORIAN
METHOD:PUBLISH
UID:89a21379-97ba-4990-9c5f-c5b872d4f435
X-WR-CALNAME:JCal Pro Calendar
X-WR-CALDESC:Your online events calendar
X-WR-TIMEZONE:America/Halifax
BEGIN:VTIMEZONE
TZID:America/Halifax
BEGIN:STANDARD
TZNAME:AST
DTSTART:20251102T020000
TZOFFSETFROM:-0300
TZOFFSETTO:-0400
RDATE:20261101T020000
END:STANDARD
BEGIN:DAYLIGHT
TZNAME:ADT
DTSTART:20260308T020000
TZOFFSETFROM:-0400
TZOFFSETTO:-0300
RDATE:20270314T020000
END:DAYLIGHT
END:VTIMEZONE
BEGIN:VEVENT
UID:20180725T080000ADT-3135mKNCTA@http://stellarton.mwvdev.info/
DTSTAMP:20260421T101856Z
CATEGORIES:Special Events
DTSTART;TZID=America/Halifax:20190724T180000
DTEND;TZID=America/Halifax:20190728T230000
SUMMARY:Homecoming Festival
URL:https://www.stellarton.ca/38-special-events/5824-homecoming-festival.ht
 ml
END:VEVENT
END:VCALENDAR
