BEGIN:VCALENDAR
VERSION:2.0
PRODID:-//https://www.stellarton.ca//NONSGML kigkonsult.se iCalcreator 2.29
 .29//
CALSCALE:GREGORIAN
METHOD:PUBLISH
UID:a59b2471-a638-4712-bff2-1ea1d8313e77
X-WR-CALNAME:JCal Pro Calendar
X-WR-CALDESC:Your online events calendar
X-WR-TIMEZONE:America/Halifax
BEGIN:VTIMEZONE
TZID:America/Halifax
BEGIN:STANDARD
TZNAME:AST
DTSTART:20251102T020000
TZOFFSETFROM:-0300
TZOFFSETTO:-0400
RDATE:20261101T020000
END:STANDARD
BEGIN:DAYLIGHT
TZNAME:ADT
DTSTART:20260308T020000
TZOFFSETFROM:-0400
TZOFFSETTO:-0300
RDATE:20270314T020000
END:DAYLIGHT
END:VTIMEZONE
BEGIN:VEVENT
UID:20240923T173000ADT-4458ZIVVA8@https://stellarton.ca/
DTSTAMP:20260420T142002Z
CATEGORIES:Committee Meetings
DTSTART;TZID=America/Halifax:20240923T173000
DTEND;TZID=America/Halifax:20240923T183000
SUMMARY:Committee of the Whole
URL:https://www.stellarton.ca/37-monthly-meetings/6058-committee-of-the-who
 le.html
END:VEVENT
END:VCALENDAR
