BEGIN:VCALENDAR
VERSION:2.0
PRODID:-//https://www.stellarton.ca//NONSGML kigkonsult.se iCalcreator 2.29
 .29//
CALSCALE:GREGORIAN
METHOD:PUBLISH
UID:2e8b1d9e-f42d-4d31-b717-b14b81d51397
X-WR-CALNAME:JCal Pro Calendar
X-WR-CALDESC:Your online events calendar
X-WR-TIMEZONE:America/Halifax
BEGIN:VTIMEZONE
TZID:America/Halifax
BEGIN:STANDARD
TZNAME:AST
DTSTART:20251102T020000
TZOFFSETFROM:-0300
TZOFFSETTO:-0400
RDATE:20261101T020000
END:STANDARD
BEGIN:DAYLIGHT
TZNAME:ADT
DTSTART:20260308T020000
TZOFFSETFROM:-0400
TZOFFSETTO:-0300
RDATE:20270314T020000
END:DAYLIGHT
END:VTIMEZONE
BEGIN:VEVENT
UID:20210119T143000AST-3912ArTUus@https://stellarton.ca/
DTSTAMP:20260424T104103Z
CATEGORIES:Committee Meetings
DTSTART;TZID=America/Halifax:20210119T143000
DTEND;TZID=America/Halifax:20210119T153000
SUMMARY:Accessibility Committee
URL:https://www.stellarton.ca/37-monthly-meetings/5939-accessibility-commit
 tee.html
END:VEVENT
END:VCALENDAR
