BEGIN:VCALENDAR
VERSION:2.0
PRODID:-//https://www.stellarton.ca//NONSGML kigkonsult.se iCalcreator 2.29
 .29//
CALSCALE:GREGORIAN
METHOD:PUBLISH
UID:0323c23b-c535-4d36-a1fc-d0d1ffea1a69
X-WR-CALNAME:JCal Pro Calendar
X-WR-CALDESC:Your online events calendar
X-WR-TIMEZONE:America/Halifax
BEGIN:VTIMEZONE
TZID:America/Halifax
BEGIN:STANDARD
TZNAME:AST
DTSTART:20251102T020000
TZOFFSETFROM:-0300
TZOFFSETTO:-0400
RDATE:20261101T020000
END:STANDARD
BEGIN:DAYLIGHT
TZNAME:ADT
DTSTART:20260308T020000
TZOFFSETFROM:-0400
TZOFFSETTO:-0300
RDATE:20270314T020000
END:DAYLIGHT
END:VTIMEZONE
BEGIN:VEVENT
UID:20260413T173000ADT-9088kmLtat@https://stellarton.ca/
DTSTAMP:20260420T082104Z
CATEGORIES:Council Meetings
DTSTART;TZID=America/Halifax:20260413T173000
DTEND;TZID=America/Halifax:20260413T183000
SUMMARY:Town Council
URL:https://www.stellarton.ca/36-council-meetings/6113-town-council.html
END:VEVENT
END:VCALENDAR
